BEGIN:VCALENDAR
VERSION:2.0
PRODID:-//Silke Seif MdHB - ECPv6.15.20//NONSGML v1.0//EN
CALSCALE:GREGORIAN
METHOD:PUBLISH
X-ORIGINAL-URL:https://silke-seif.de
X-WR-CALDESC:Veranstaltungen für Silke Seif MdHB
REFRESH-INTERVAL;VALUE=DURATION:PT1H
X-Robots-Tag:noindex
X-PUBLISHED-TTL:PT1H
BEGIN:VTIMEZONE
TZID:Europe/Berlin
BEGIN:DAYLIGHT
TZOFFSETFROM:+0100
TZOFFSETTO:+0200
TZNAME:CEST
DTSTART:20230326T010000
END:DAYLIGHT
BEGIN:STANDARD
TZOFFSETFROM:+0200
TZOFFSETTO:+0100
TZNAME:CET
DTSTART:20231029T010000
END:STANDARD
BEGIN:DAYLIGHT
TZOFFSETFROM:+0100
TZOFFSETTO:+0200
TZNAME:CEST
DTSTART:20240331T010000
END:DAYLIGHT
BEGIN:STANDARD
TZOFFSETFROM:+0200
TZOFFSETTO:+0100
TZNAME:CET
DTSTART:20241027T010000
END:STANDARD
BEGIN:DAYLIGHT
TZOFFSETFROM:+0100
TZOFFSETTO:+0200
TZNAME:CEST
DTSTART:20250330T010000
END:DAYLIGHT
BEGIN:STANDARD
TZOFFSETFROM:+0200
TZOFFSETTO:+0100
TZNAME:CET
DTSTART:20251026T010000
END:STANDARD
END:VTIMEZONE
BEGIN:VEVENT
DTSTART;TZID=Europe/Berlin:20241206T140000
DTEND;TZID=Europe/Berlin:20241206T160000
DTSTAMP:20260423T184546
CREATED:20241004T113052Z
LAST-MODIFIED:20241004T113052Z
UID:12640-1733493600-1733500800@silke-seif.de
SUMMARY:Familien-\, Kinder- und Jugendausschuss
DESCRIPTION:AP6\, Sitzungssaal 1.05\, 1. Obergeschoss\, Adolphsplatz 6\, 20457 Hamburg
URL:https://silke-seif.de/termine/familien-kinder-und-jugendausschuss-19/
LOCATION:Rathaus
END:VEVENT
BEGIN:VEVENT
DTSTART;TZID=Europe/Berlin:20241207T110000
DTEND;TZID=Europe/Berlin:20241207T130000
DTSTAMP:20260423T184546
CREATED:20241124T114104Z
LAST-MODIFIED:20241124T114104Z
UID:12892-1733569200-1733576400@silke-seif.de
SUMMARY:CDU-Infostand Niendorf mit Silke Seif und Roland Heintze
DESCRIPTION:
URL:https://silke-seif.de/termine/cdu-infostand-niendorf-mit-silke-seif-und-roland-heintze/
LOCATION:Tibarg 21
END:VEVENT
BEGIN:VEVENT
DTSTART;TZID=Europe/Berlin:20241211T140000
DTEND;TZID=Europe/Berlin:20241211T170000
DTSTAMP:20260423T184546
CREATED:20231117T164925Z
LAST-MODIFIED:20231117T164925Z
UID:12010-1733925600-1733936400@silke-seif.de
SUMMARY:Sportausschuss
DESCRIPTION:AP6\, Sitzungssaal 2.04\, 2. Obergeschoss\, Adolphsplatz 6\, 20457 Hamburg
URL:https://silke-seif.de/termine/sportausschuss-32/
LOCATION:Hamburger Rathaus\, Rathausmarkt 1\, Hamburg\, 20095
ATTACH;FMTTYPE=image/jpeg:https://silke-seif.de/wp-content/uploads/2020/07/Sportausschuss.jpg
END:VEVENT
BEGIN:VEVENT
DTSTART;TZID=Europe/Berlin:20241212T140000
DTEND;TZID=Europe/Berlin:20241212T160000
DTSTAMP:20260423T184546
CREATED:20241004T112622Z
LAST-MODIFIED:20241004T112622Z
UID:12624-1734012000-1734019200@silke-seif.de
SUMMARY:Sportausschuss
DESCRIPTION:AP6\, Sitzungssaal 1.05\, 1. Obergeschoss\, Adolphsplatz 6\, 20457 Hamburg
URL:https://silke-seif.de/termine/sportausschuss-35/
LOCATION:Hamburger Rathaus\, Rathausmarkt 1\, Hamburg\, 20095
ATTACH;FMTTYPE=image/jpeg:https://silke-seif.de/wp-content/uploads/2020/07/Sportausschuss.jpg
END:VEVENT
BEGIN:VEVENT
DTSTART;TZID=Europe/Berlin:20241213T100000
DTEND;TZID=Europe/Berlin:20241213T110000
DTSTAMP:20260423T184546
CREATED:20241124T113639Z
LAST-MODIFIED:20241124T114138Z
UID:12877-1734084000-1734087600@silke-seif.de
SUMMARY:Bürgersprechstunde mit Silke Seif MdHB
DESCRIPTION:Abgeordnetenbüro Silke Seif\, Jägerlauf 41-45\, 22529 Hamburg. Anmeldung unter: info@silke-seif.de oder Tel. 040 / 41 92 16 98
URL:https://silke-seif.de/termine/buergersprechstunde-mit-silke-seif-mdhb/
LOCATION:Abgeordnetenbüro Silke Seif\, Jägerlauf 41-45\, Hamburg\, 22529
ATTACH;FMTTYPE=image/jpeg:https://silke-seif.de/wp-content/uploads/2023/03/202010231316__5TK9653_a-min.jpg
END:VEVENT
BEGIN:VEVENT
DTSTART;TZID=Europe/Berlin:20241214T100000
DTEND;TZID=Europe/Berlin:20241214T120000
DTSTAMP:20260423T184546
CREATED:20241003T195123Z
LAST-MODIFIED:20241003T195123Z
UID:12579-1734170400-1734177600@silke-seif.de
SUMMARY:CDU-Infostand Schnelsen mit Silke Seif
DESCRIPTION:
URL:https://silke-seif.de/termine/cdu-infostand-schnelsen-mit-silke-seif/
LOCATION:Frohmestraße 14 / Ecke Glißmannweg
END:VEVENT
BEGIN:VEVENT
DTSTART;TZID=Europe/Berlin:20241214T100000
DTEND;TZID=Europe/Berlin:20241214T120000
DTSTAMP:20260423T184546
CREATED:20241124T114003Z
LAST-MODIFIED:20241124T114003Z
UID:12888-1734170400-1734177600@silke-seif.de
SUMMARY:CDU-Infostand Schnelsen
DESCRIPTION:
URL:https://silke-seif.de/termine/cdu-infostand-schnelsen-21/
LOCATION:Frohmestraße 13\, Frohmestraße 13
END:VEVENT
BEGIN:VEVENT
DTSTART;TZID=Europe/Berlin:20241214T110000
DTEND;TZID=Europe/Berlin:20241214T130000
DTSTAMP:20260423T184546
CREATED:20241003T195204Z
LAST-MODIFIED:20241003T195204Z
UID:12582-1734174000-1734181200@silke-seif.de
SUMMARY:CDU-Infostand Lokstedt
DESCRIPTION:
URL:https://silke-seif.de/termine/cdu-infostand-lokstedt-8/
LOCATION:Grelckstraße 34 (Höhe Rewe)\, Grelckstraße 34
END:VEVENT
BEGIN:VEVENT
DTSTART;TZID=Europe/Berlin:20241214T110000
DTEND;TZID=Europe/Berlin:20241214T130000
DTSTAMP:20260423T184546
CREATED:20241124T114028Z
LAST-MODIFIED:20241124T114028Z
UID:12890-1734174000-1734181200@silke-seif.de
SUMMARY:CDU-Infostand Lokstedt
DESCRIPTION:
URL:https://silke-seif.de/termine/cdu-infostand-lokstedt-11/
LOCATION:Grelckstraße 2 / Höhe Aldi-Filiale\, Grelckstraße 2 / Höhe Aldi-Filiale\, Hamburg
END:VEVENT
BEGIN:VEVENT
DTSTART;TZID=Europe/Berlin:20241216T133000
DTEND;TZID=Europe/Berlin:20241216T210000
DTSTAMP:20260423T184546
CREATED:20241004T113354Z
LAST-MODIFIED:20241004T113706Z
UID:12652-1734355800-1734382800@silke-seif.de
SUMMARY:Bürgerschaftssitzung
DESCRIPTION:Bürgerschaftssitzung (Haushaltsberatungen 2025/26\, Tag 1)\, ab 13.30 Uhr \nSie können die Sitzung auch im Live-Stream auf der Website der Hamburgischen Bürgerschaft verfolgen: https://www.hamburgische-buergerschaft.de/buergerschaft-live/
URL:https://silke-seif.de/termine/buergerschaftssitzung-73/
LOCATION:Hamburger Rathaus\, Rathausmarkt 1\, Hamburg\, 20095
ATTACH;FMTTYPE=image/jpeg:https://silke-seif.de/wp-content/uploads/2020/12/Buergerschaftssitzung-Silke-Seif.jpg
END:VEVENT
BEGIN:VEVENT
DTSTART;TZID=Europe/Berlin:20241217T133000
DTEND;TZID=Europe/Berlin:20241217T210000
DTSTAMP:20260423T184546
CREATED:20241004T113332Z
LAST-MODIFIED:20241004T113728Z
UID:12650-1734442200-1734469200@silke-seif.de
SUMMARY:Bürgerschaftssitzung
DESCRIPTION:Bürgerschaftssitzung (Haushaltsberatungen 2025/26\, Tag 2)\, ab 13.30 Uhr \nSie können die Sitzung auch im Live-Stream auf der Website der Hamburgischen Bürgerschaft verfolgen: https://www.hamburgische-buergerschaft.de/buergerschaft-live/
URL:https://silke-seif.de/termine/buergerschaftssitzung-72/
LOCATION:Hamburger Rathaus\, Rathausmarkt 1\, Hamburg\, 20095
ATTACH;FMTTYPE=image/jpeg:https://silke-seif.de/wp-content/uploads/2020/12/Buergerschaftssitzung-Silke-Seif.jpg
END:VEVENT
BEGIN:VEVENT
DTSTART;TZID=Europe/Berlin:20241218T133000
DTEND;TZID=Europe/Berlin:20241218T210000
DTSTAMP:20260423T184546
CREATED:20241004T113305Z
LAST-MODIFIED:20241004T113748Z
UID:12648-1734528600-1734555600@silke-seif.de
SUMMARY:Bürgerschaftssitzung
DESCRIPTION:Bürgerschaftssitzung (Haushaltsberatungen 2025/26\, Tag 3)\, ab 13.30 Uhr \nSie können die Sitzung auch im Live-Stream auf der Website der Hamburgischen Bürgerschaft verfolgen: https://www.hamburgische-buergerschaft.de/buergerschaft-live/
URL:https://silke-seif.de/termine/buergerschaftssitzung-71/
LOCATION:Hamburger Rathaus\, Rathausmarkt 1\, Hamburg\, 20095
ATTACH;FMTTYPE=image/jpeg:https://silke-seif.de/wp-content/uploads/2020/12/Buergerschaftssitzung-Silke-Seif.jpg
END:VEVENT
END:VCALENDAR