BEGIN:VCALENDAR
VERSION:2.0
PRODID:-//Silke Seif MdHB - ECPv6.15.20//NONSGML v1.0//EN
CALSCALE:GREGORIAN
METHOD:PUBLISH
X-ORIGINAL-URL:https://silke-seif.de
X-WR-CALDESC:Veranstaltungen für Silke Seif MdHB
REFRESH-INTERVAL;VALUE=DURATION:PT1H
X-Robots-Tag:noindex
X-PUBLISHED-TTL:PT1H
BEGIN:VTIMEZONE
TZID:Europe/Berlin
BEGIN:DAYLIGHT
TZOFFSETFROM:+0100
TZOFFSETTO:+0200
TZNAME:CEST
DTSTART:20230326T010000
END:DAYLIGHT
BEGIN:STANDARD
TZOFFSETFROM:+0200
TZOFFSETTO:+0100
TZNAME:CET
DTSTART:20231029T010000
END:STANDARD
BEGIN:DAYLIGHT
TZOFFSETFROM:+0100
TZOFFSETTO:+0200
TZNAME:CEST
DTSTART:20240331T010000
END:DAYLIGHT
BEGIN:STANDARD
TZOFFSETFROM:+0200
TZOFFSETTO:+0100
TZNAME:CET
DTSTART:20241027T010000
END:STANDARD
BEGIN:DAYLIGHT
TZOFFSETFROM:+0100
TZOFFSETTO:+0200
TZNAME:CEST
DTSTART:20250330T010000
END:DAYLIGHT
BEGIN:STANDARD
TZOFFSETFROM:+0200
TZOFFSETTO:+0100
TZNAME:CET
DTSTART:20251026T010000
END:STANDARD
END:VTIMEZONE
BEGIN:VEVENT
DTSTART;TZID=Europe/Berlin:20241102T110000
DTEND;TZID=Europe/Berlin:20241102T130000
DTSTAMP:20260423T201554
CREATED:20241003T195313Z
LAST-MODIFIED:20241003T195313Z
UID:12586-1730545200-1730552400@silke-seif.de
SUMMARY:CDU-Infostand Niendorf
DESCRIPTION:
URL:https://silke-seif.de/termine/cdu-infostand-niendorf-13/
LOCATION:Tibarg 21
END:VEVENT
BEGIN:VEVENT
DTSTART;TZID=Europe/Berlin:20241107T140000
DTEND;TZID=Europe/Berlin:20241107T170000
DTSTAMP:20260423T201554
CREATED:20231117T163055Z
LAST-MODIFIED:20231117T163055Z
UID:11976-1730988000-1730998800@silke-seif.de
SUMMARY:Ausschuss für Gleichstellung und Antidiskriminierung
DESCRIPTION:AP6\, Sitzungssaal 2.04\, 2. Obergeschoss\, Adolphsplatz 6\, 20457 Hamburg
URL:https://silke-seif.de/termine/ausschuss-fuer-gleichstellung-und-antidiskriminierung-19/
LOCATION:Hamburger Rathaus\, Rathausmarkt 1\, Hamburg\, 20095
ATTACH;FMTTYPE=image/jpeg:https://silke-seif.de/wp-content/uploads/2020/05/200417_Silke_Seif_MdHB_Max_Arens_044.jpg
END:VEVENT
BEGIN:VEVENT
DTSTART;TZID=Europe/Berlin:20241108T170000
DTEND;TZID=Europe/Berlin:20241108T190000
DTSTAMP:20260423T201554
CREATED:20231117T164108Z
LAST-MODIFIED:20231117T164108Z
UID:11993-1731085200-1731092400@silke-seif.de
SUMMARY:Ausschuss für Soziales\, Arbeit und Integration
DESCRIPTION:AP6\, Sitzungssaal 2.04\, 2. Obergeschoss\, Adolphsplatz 6\, 20457 Hamburg
URL:https://silke-seif.de/termine/ausschuss-fuer-soziales-arbeit-und-integration-9/
LOCATION:Rathaus
ATTACH;FMTTYPE=image/jpeg:https://silke-seif.de/wp-content/uploads/2020/07/Senioren-Arbeit.jpg
END:VEVENT
BEGIN:VEVENT
DTSTART;TZID=Europe/Berlin:20241108T170000
DTEND;TZID=Europe/Berlin:20241108T190000
DTSTAMP:20260423T201554
CREATED:20241004T113955Z
LAST-MODIFIED:20241004T113955Z
UID:12662-1731085200-1731092400@silke-seif.de
SUMMARY:Ausschuss für Soziales\, Arbeit und Integration
DESCRIPTION:Rathaus\, Raum 151\, Rathausmarkt 1\, 20095 Hamburg
URL:https://silke-seif.de/termine/ausschuss-fuer-soziales-arbeit-und-integration-11/
LOCATION:Rathaus
ATTACH;FMTTYPE=image/jpeg:https://silke-seif.de/wp-content/uploads/2020/07/Senioren-Arbeit.jpg
END:VEVENT
BEGIN:VEVENT
DTSTART;TZID=Europe/Berlin:20241113T133000
DTEND;TZID=Europe/Berlin:20241113T210000
DTSTAMP:20260423T201554
CREATED:20241004T113420Z
LAST-MODIFIED:20241004T113543Z
UID:12654-1731504600-1731531600@silke-seif.de
SUMMARY:Bürgerschaftssitzung
DESCRIPTION:Sie können die Sitzung auch im Live-Stream auf der Website der Hamburgischen Bürgerschaft verfolgen: https://www.hamburgische-buergerschaft.de/buergerschaft-live/
URL:https://silke-seif.de/termine/buergerschaftssitzung-74/
LOCATION:Hamburger Rathaus\, Rathausmarkt 1\, Hamburg\, 20095
ATTACH;FMTTYPE=image/jpeg:https://silke-seif.de/wp-content/uploads/2020/12/Buergerschaftssitzung-Silke-Seif.jpg
END:VEVENT
BEGIN:VEVENT
DTSTART;TZID=Europe/Berlin:20241116T100000
DTEND;TZID=Europe/Berlin:20241116T120000
DTSTAMP:20260423T201554
CREATED:20241003T195239Z
LAST-MODIFIED:20241003T195239Z
UID:12584-1731751200-1731758400@silke-seif.de
SUMMARY:CDU-Infostand Lokstedt
DESCRIPTION:
URL:https://silke-seif.de/termine/cdu-infostand-lokstedt-9/
LOCATION:Grelckstraße 34 (Höhe Rewe)\, Grelckstraße 34
END:VEVENT
BEGIN:VEVENT
DTSTART;TZID=Europe/Berlin:20241122T100000
DTEND;TZID=Europe/Berlin:20241122T110000
DTSTAMP:20260423T201554
CREATED:20241124T114156Z
LAST-MODIFIED:20241124T114156Z
UID:12894-1732269600-1732273200@silke-seif.de
SUMMARY:Bürgersprechstunde mit Silke Seif MdHB
DESCRIPTION:Abgeordnetenbüro Silke Seif\, Jägerlauf 41-45\, 22529 Hamburg. Anmeldung unter: info@silke-seif.de oder Tel. 040 / 41 92 16 98
URL:https://silke-seif.de/termine/buergersprechstunde-mit-silke-seif-mdhb-3/
LOCATION:Abgeordnetenbüro Silke Seif\, Jägerlauf 41-45\, Hamburg\, 22529
ATTACH;FMTTYPE=image/jpeg:https://silke-seif.de/wp-content/uploads/2023/03/202010231316__5TK9653_a-min.jpg
END:VEVENT
BEGIN:VEVENT
DTSTART;TZID=Europe/Berlin:20241127T133000
DTEND;TZID=Europe/Berlin:20241127T210000
DTSTAMP:20260423T201554
CREATED:20241004T113612Z
LAST-MODIFIED:20241004T113612Z
UID:12658-1732714200-1732741200@silke-seif.de
SUMMARY:Bürgerschaftssitzung
DESCRIPTION:Sie können die Sitzung auch im Live-Stream auf der Website der Hamburgischen Bürgerschaft verfolgen: https://www.hamburgische-buergerschaft.de/buergerschaft-live/
URL:https://silke-seif.de/termine/buergerschaftssitzung-76/
LOCATION:Hamburger Rathaus\, Rathausmarkt 1\, Hamburg\, 20095
ATTACH;FMTTYPE=image/jpeg:https://silke-seif.de/wp-content/uploads/2020/12/Buergerschaftssitzung-Silke-Seif.jpg
END:VEVENT
BEGIN:VEVENT
DTSTART;TZID=Europe/Berlin:20241128T140000
DTEND;TZID=Europe/Berlin:20241128T160000
DTSTAMP:20260423T201554
CREATED:20241004T112652Z
LAST-MODIFIED:20241004T112652Z
UID:12626-1732802400-1732809600@silke-seif.de
SUMMARY:Sportausschuss
DESCRIPTION:AP6\, Sitzungssaal 1.05\, 1. Obergeschoss\, Adolphsplatz 6\, 20457 Hamburg
URL:https://silke-seif.de/termine/sportausschuss-36/
LOCATION:Hamburger Rathaus\, Rathausmarkt 1\, Hamburg\, 20095
ATTACH;FMTTYPE=image/jpeg:https://silke-seif.de/wp-content/uploads/2020/07/Sportausschuss.jpg
END:VEVENT
BEGIN:VEVENT
DTSTART;TZID=Europe/Berlin:20241128T140000
DTEND;TZID=Europe/Berlin:20241128T170000
DTSTAMP:20260423T201554
CREATED:20231117T164851Z
LAST-MODIFIED:20231117T164851Z
UID:12008-1732802400-1732813200@silke-seif.de
SUMMARY:Sportausschuss
DESCRIPTION:AP6\, Sitzungssaal 2.04\, 2. Obergeschoss\, Adolphsplatz 6\, 20457 Hamburg
URL:https://silke-seif.de/termine/sportausschuss-31/
LOCATION:Hamburger Rathaus\, Rathausmarkt 1\, Hamburg\, 20095
ATTACH;FMTTYPE=image/jpeg:https://silke-seif.de/wp-content/uploads/2020/07/Sportausschuss.jpg
END:VEVENT
END:VCALENDAR