BEGIN:VCALENDAR
VERSION:2.0
PRODID:-//Silke Seif MdHB - ECPv6.15.20//NONSGML v1.0//EN
CALSCALE:GREGORIAN
METHOD:PUBLISH
X-ORIGINAL-URL:https://silke-seif.de
X-WR-CALDESC:Veranstaltungen für Silke Seif MdHB
REFRESH-INTERVAL;VALUE=DURATION:PT1H
X-Robots-Tag:noindex
X-PUBLISHED-TTL:PT1H
BEGIN:VTIMEZONE
TZID:Europe/Berlin
BEGIN:DAYLIGHT
TZOFFSETFROM:+0100
TZOFFSETTO:+0200
TZNAME:CEST
DTSTART:20230326T010000
END:DAYLIGHT
BEGIN:STANDARD
TZOFFSETFROM:+0200
TZOFFSETTO:+0100
TZNAME:CET
DTSTART:20231029T010000
END:STANDARD
BEGIN:DAYLIGHT
TZOFFSETFROM:+0100
TZOFFSETTO:+0200
TZNAME:CEST
DTSTART:20240331T010000
END:DAYLIGHT
BEGIN:STANDARD
TZOFFSETFROM:+0200
TZOFFSETTO:+0100
TZNAME:CET
DTSTART:20241027T010000
END:STANDARD
BEGIN:DAYLIGHT
TZOFFSETFROM:+0100
TZOFFSETTO:+0200
TZNAME:CEST
DTSTART:20250330T010000
END:DAYLIGHT
BEGIN:STANDARD
TZOFFSETFROM:+0200
TZOFFSETTO:+0100
TZNAME:CET
DTSTART:20251026T010000
END:STANDARD
END:VTIMEZONE
BEGIN:VEVENT
DTSTART;TZID=Europe/Berlin:20241011T170000
DTEND;TZID=Europe/Berlin:20241011T190000
DTSTAMP:20260423T213022
CREATED:20241004T114020Z
LAST-MODIFIED:20241004T114021Z
UID:12665-1728666000-1728673200@silke-seif.de
SUMMARY:Ausschuss für Soziales\, Arbeit und Integration
DESCRIPTION:AP6\, Sitzungssaal 2.04\, 2. Obergeschoss\, Adolphsplatz6\, 20457 Hamburg
URL:https://silke-seif.de/termine/ausschuss-fuer-soziales-arbeit-und-integration-12/
LOCATION:Rathaus
ATTACH;FMTTYPE=image/jpeg:https://silke-seif.de/wp-content/uploads/2020/07/Senioren-Arbeit.jpg
END:VEVENT
BEGIN:VEVENT
DTSTART;TZID=Europe/Berlin:20241012T110000
DTEND;TZID=Europe/Berlin:20241012T130000
DTSTAMP:20260423T213022
CREATED:20241004T114236Z
LAST-MODIFIED:20241004T114236Z
UID:12669-1728730800-1728738000@silke-seif.de
SUMMARY:CDU-Infostand Niendorf
DESCRIPTION:
URL:https://silke-seif.de/termine/cdu-infostand-niendorf-14/
LOCATION:Tibarg 21
END:VEVENT
BEGIN:VEVENT
DTSTART;TZID=Europe/Berlin:20241016T133000
DTEND;TZID=Europe/Berlin:20241016T210000
DTSTAMP:20260423T213022
CREATED:20241004T113456Z
LAST-MODIFIED:20241004T113456Z
UID:12656-1729085400-1729112400@silke-seif.de
SUMMARY:Bürgerschaftssitzung
DESCRIPTION:Sie können die Sitzung auch im Live-Stream auf der Website der Hamburgischen Bürgerschaft verfolgen: https://www.hamburgische-buergerschaft.de/buergerschaft-live/
URL:https://silke-seif.de/termine/buergerschaftssitzung-75/
LOCATION:Hamburger Rathaus\, Rathausmarkt 1\, Hamburg\, 20095
ATTACH;FMTTYPE=image/jpeg:https://silke-seif.de/wp-content/uploads/2020/12/Buergerschaftssitzung-Silke-Seif.jpg
END:VEVENT
BEGIN:VEVENT
DTSTART;TZID=Europe/Berlin:20241018T140000
DTEND;TZID=Europe/Berlin:20241018T160000
DTSTAMP:20260423T213022
CREATED:20241004T113121Z
LAST-MODIFIED:20241004T113121Z
UID:12642-1729260000-1729267200@silke-seif.de
SUMMARY:Familien-\, Kinder- und Jugendausschuss
DESCRIPTION:Rathaus\, Raum 151\, Rathausmarkt 1\, 20095 Hamburg
URL:https://silke-seif.de/termine/familien-kinder-und-jugendausschuss-20/
LOCATION:Rathaus
END:VEVENT
BEGIN:VEVENT
DTSTART;TZID=Europe/Berlin:20241018T140000
DTEND;TZID=Europe/Berlin:20241018T170000
DTSTAMP:20260423T213022
CREATED:20231117T171355Z
LAST-MODIFIED:20231117T171355Z
UID:12024-1729260000-1729270800@silke-seif.de
SUMMARY:Familien-\, Kinder- und Jugendausschuss
DESCRIPTION:Rathaus\, Raum 151\, Rathausmarkt 1\, 20095 Hamburg
URL:https://silke-seif.de/termine/familien-kinder-und-jugendausschuss-15/
LOCATION:Rathaus
END:VEVENT
END:VCALENDAR