BEGIN:VCALENDAR
VERSION:2.0
PRODID:-//Silke Seif MdHB - ECPv6.15.20//NONSGML v1.0//EN
CALSCALE:GREGORIAN
METHOD:PUBLISH
X-WR-CALNAME:Silke Seif MdHB
X-ORIGINAL-URL:https://silke-seif.de
X-WR-CALDESC:Veranstaltungen für Silke Seif MdHB
REFRESH-INTERVAL;VALUE=DURATION:PT1H
X-Robots-Tag:noindex
X-PUBLISHED-TTL:PT1H
BEGIN:VTIMEZONE
TZID:Europe/Berlin
BEGIN:DAYLIGHT
TZOFFSETFROM:+0100
TZOFFSETTO:+0200
TZNAME:CEST
DTSTART:20230326T010000
END:DAYLIGHT
BEGIN:STANDARD
TZOFFSETFROM:+0200
TZOFFSETTO:+0100
TZNAME:CET
DTSTART:20231029T010000
END:STANDARD
BEGIN:DAYLIGHT
TZOFFSETFROM:+0100
TZOFFSETTO:+0200
TZNAME:CEST
DTSTART:20240331T010000
END:DAYLIGHT
BEGIN:STANDARD
TZOFFSETFROM:+0200
TZOFFSETTO:+0100
TZNAME:CET
DTSTART:20241027T010000
END:STANDARD
BEGIN:DAYLIGHT
TZOFFSETFROM:+0100
TZOFFSETTO:+0200
TZNAME:CEST
DTSTART:20250330T010000
END:DAYLIGHT
BEGIN:STANDARD
TZOFFSETFROM:+0200
TZOFFSETTO:+0100
TZNAME:CET
DTSTART:20251026T010000
END:STANDARD
END:VTIMEZONE
BEGIN:VEVENT
DTSTART;TZID=Europe/Berlin:20240903T140000
DTEND;TZID=Europe/Berlin:20240903T170000
DTSTAMP:20260423T224452
CREATED:20231117T163012Z
LAST-MODIFIED:20231117T163012Z
UID:11974-1725372000-1725382800@silke-seif.de
SUMMARY:Ausschuss für Gleichstellung und Antidiskriminierung
DESCRIPTION:AP6\, Sitzungssaal 2.04\, 2. Obergeschoss\, Adolphsplatz 6\, 20457 Hamburg
URL:https://silke-seif.de/termine/ausschuss-fuer-gleichstellung-und-antidiskriminierung-18/
LOCATION:Hamburger Rathaus\, Rathausmarkt 1\, Hamburg\, 20095
ATTACH;FMTTYPE=image/jpeg:https://silke-seif.de/wp-content/uploads/2020/05/200417_Silke_Seif_MdHB_Max_Arens_044.jpg
END:VEVENT
BEGIN:VEVENT
DTSTART;TZID=Europe/Berlin:20240903T170000
DTEND;TZID=Europe/Berlin:20240903T190000
DTSTAMP:20260423T224452
CREATED:20231117T164026Z
LAST-MODIFIED:20231117T164026Z
UID:11990-1725382800-1725390000@silke-seif.de
SUMMARY:Ausschuss für Soziales\, Arbeit und Integration
DESCRIPTION:Rathaus\, Raum 151\, Rathausmarkt 1\, 20095 Hamburg
URL:https://silke-seif.de/termine/ausschuss-fuer-soziales-arbeit-und-integration-8/
LOCATION:Rathaus
ATTACH;FMTTYPE=image/jpeg:https://silke-seif.de/wp-content/uploads/2020/07/Senioren-Arbeit.jpg
END:VEVENT
BEGIN:VEVENT
DTSTART;TZID=Europe/Berlin:20240919T140000
DTEND;TZID=Europe/Berlin:20240919T170000
DTSTAMP:20260423T224452
CREATED:20231117T164803Z
LAST-MODIFIED:20231117T164815Z
UID:12005-1726754400-1726765200@silke-seif.de
SUMMARY:Sportausschuss
DESCRIPTION:Rathaus\, Raum 151\, Rathausmarkt 1\, 20095 Hamburg
URL:https://silke-seif.de/termine/sportausschuss-30/
LOCATION:Hamburger Rathaus\, Rathausmarkt 1\, Hamburg\, 20095
ATTACH;FMTTYPE=image/jpeg:https://silke-seif.de/wp-content/uploads/2020/07/Sportausschuss.jpg
END:VEVENT
BEGIN:VEVENT
DTSTART;TZID=Europe/Berlin:20240925T140000
DTEND;TZID=Europe/Berlin:20240925T170000
DTSTAMP:20260423T224452
CREATED:20231117T171322Z
LAST-MODIFIED:20231117T171322Z
UID:12022-1727272800-1727283600@silke-seif.de
SUMMARY:Familien-\, Kinder- und Jugendausschuss
DESCRIPTION:AP6\, Sitzungssaal 2.04\, 2. Obergeschoss\, Adolphsplatz 6\, 20457 Hamburg
URL:https://silke-seif.de/termine/familien-kinder-und-jugendausschuss-14/
LOCATION:Rathaus
END:VEVENT
END:VCALENDAR