BEGIN:VCALENDAR
VERSION:2.0
PRODID:-//Silke Seif MdHB - ECPv6.15.20//NONSGML v1.0//EN
CALSCALE:GREGORIAN
METHOD:PUBLISH
X-ORIGINAL-URL:https://silke-seif.de
X-WR-CALDESC:Veranstaltungen für Silke Seif MdHB
REFRESH-INTERVAL;VALUE=DURATION:PT1H
X-Robots-Tag:noindex
X-PUBLISHED-TTL:PT1H
BEGIN:VTIMEZONE
TZID:Europe/Berlin
BEGIN:DAYLIGHT
TZOFFSETFROM:+0100
TZOFFSETTO:+0200
TZNAME:CEST
DTSTART:20230326T010000
END:DAYLIGHT
BEGIN:STANDARD
TZOFFSETFROM:+0200
TZOFFSETTO:+0100
TZNAME:CET
DTSTART:20231029T010000
END:STANDARD
BEGIN:DAYLIGHT
TZOFFSETFROM:+0100
TZOFFSETTO:+0200
TZNAME:CEST
DTSTART:20240331T010000
END:DAYLIGHT
BEGIN:STANDARD
TZOFFSETFROM:+0200
TZOFFSETTO:+0100
TZNAME:CET
DTSTART:20241027T010000
END:STANDARD
BEGIN:DAYLIGHT
TZOFFSETFROM:+0100
TZOFFSETTO:+0200
TZNAME:CEST
DTSTART:20250330T010000
END:DAYLIGHT
BEGIN:STANDARD
TZOFFSETFROM:+0200
TZOFFSETTO:+0100
TZNAME:CET
DTSTART:20251026T010000
END:STANDARD
END:VTIMEZONE
BEGIN:VEVENT
DTSTART;TZID=Europe/Berlin:20240601T100000
DTEND;TZID=Europe/Berlin:20240601T120000
DTSTAMP:20260424T023410
CREATED:20240316T120641Z
LAST-MODIFIED:20240316T120641Z
UID:12433-1717236000-1717243200@silke-seif.de
SUMMARY:CDU-Infostand Schnelsen
DESCRIPTION:
URL:https://silke-seif.de/termine/cdu-infostand-schnelsen-16/
LOCATION:Frohmestraße 14 / Ecke Glißmannweg
END:VEVENT
BEGIN:VEVENT
DTSTART;TZID=Europe/Berlin:20240601T100000
DTEND;TZID=Europe/Berlin:20240601T120000
DTSTAMP:20260424T023410
CREATED:20240316T121013Z
LAST-MODIFIED:20240316T121013Z
UID:12435-1717236000-1717243200@silke-seif.de
SUMMARY:CDU-Infostand Niendorf
DESCRIPTION:
URL:https://silke-seif.de/termine/cdu-infostand-niendorf-8/
LOCATION:Tibarg 21
END:VEVENT
BEGIN:VEVENT
DTSTART;TZID=Europe/Berlin:20240606T140000
DTEND;TZID=Europe/Berlin:20240606T170000
DTSTAMP:20260424T023410
CREATED:20231117T164645Z
LAST-MODIFIED:20231117T164645Z
UID:12001-1717682400-1717693200@silke-seif.de
SUMMARY:Sportausschuss
DESCRIPTION:Rathaus\, Raum 151\, Rathausmarkt 1\, 20095 Hamburg
URL:https://silke-seif.de/termine/sportausschuss-28/
LOCATION:Hamburger Rathaus\, Rathausmarkt 1\, Hamburg\, 20095
ATTACH;FMTTYPE=image/jpeg:https://silke-seif.de/wp-content/uploads/2020/07/Sportausschuss.jpg
END:VEVENT
BEGIN:VEVENT
DTSTART;TZID=Europe/Berlin:20240607T083000
DTEND;TZID=Europe/Berlin:20240607T100000
DTSTAMP:20260424T023410
CREATED:20240316T120609Z
LAST-MODIFIED:20240316T120609Z
UID:12430-1717749000-1717754400@silke-seif.de
SUMMARY:CDU-Infostand Schnelsen mit Dennis Thering\, CDU-Fraktionsvorsitzender und CDU-Landeschef
DESCRIPTION:
URL:https://silke-seif.de/termine/cdu-infostand-schnelsen-mit-dennis-thering-cdu-fraktionsvorsitzender-und-cdu-landeschef/
LOCATION:Wochenmarkt Schnelsen\, Wählingsallee 18\, Wählingsallee 18
END:VEVENT
BEGIN:VEVENT
DTSTART;TZID=Europe/Berlin:20240608T100000
DTEND;TZID=Europe/Berlin:20240608T120000
DTSTAMP:20260424T023410
CREATED:20240316T120406Z
LAST-MODIFIED:20240316T120406Z
UID:12426-1717840800-1717848000@silke-seif.de
SUMMARY:CDU-Infostand Niendorf auf dem Tibarg-Fest
DESCRIPTION:
URL:https://silke-seif.de/termine/cdu-infostand-niendorf-auf-dem-tibarg-fest/
LOCATION:Tibarg 21
END:VEVENT
BEGIN:VEVENT
DTSTART;TZID=Europe/Berlin:20240608T100000
DTEND;TZID=Europe/Berlin:20240608T120000
DTSTAMP:20260424T023410
CREATED:20240316T120454Z
LAST-MODIFIED:20240316T120454Z
UID:12428-1717840800-1717848000@silke-seif.de
SUMMARY:CDU-Infostand Schnelsen
DESCRIPTION:
URL:https://silke-seif.de/termine/cdu-infostand-schnelsen-15/
LOCATION:Frohmestraße 14 / Ecke Glißmannweg
END:VEVENT
BEGIN:VEVENT
DTSTART;TZID=Europe/Berlin:20240611T140000
DTEND;TZID=Europe/Berlin:20240611T170000
DTSTAMP:20260424T023410
CREATED:20231117T162905Z
LAST-MODIFIED:20231117T162905Z
UID:11970-1718114400-1718125200@silke-seif.de
SUMMARY:Ausschuss für Gleichstellung und Antidiskriminierung
DESCRIPTION:AP6\, Sitzungssaal 2.04\, 2. Obergeschoss\, Adolphsplatz 6\, 20457 Hamburg
URL:https://silke-seif.de/termine/ausschuss-fuer-gleichstellung-und-antidiskriminierung-16/
LOCATION:Hamburger Rathaus\, Rathausmarkt 1\, Hamburg\, 20095
ATTACH;FMTTYPE=image/jpeg:https://silke-seif.de/wp-content/uploads/2020/05/200417_Silke_Seif_MdHB_Max_Arens_044.jpg
END:VEVENT
BEGIN:VEVENT
DTSTART;TZID=Europe/Berlin:20240613T140000
DTEND;TZID=Europe/Berlin:20240613T170000
DTSTAMP:20260424T023410
CREATED:20231117T163908Z
LAST-MODIFIED:20231117T163908Z
UID:11986-1718287200-1718298000@silke-seif.de
SUMMARY:Ausschuss für Soziales\, Arbeit und Integration
DESCRIPTION:AP6\, Sitzungssaal 2.04\, 2. Obergeschoss\, Adolphsplatz 6\, 20457 Hamburg
URL:https://silke-seif.de/termine/ausschuss-fuer-soziales-arbeit-und-integration-6/
LOCATION:Rathaus
ATTACH;FMTTYPE=image/jpeg:https://silke-seif.de/wp-content/uploads/2020/07/Senioren-Arbeit.jpg
END:VEVENT
BEGIN:VEVENT
DTSTART;TZID=Europe/Berlin:20240620T140000
DTEND;TZID=Europe/Berlin:20240620T170000
DTSTAMP:20260424T023410
CREATED:20231117T171245Z
LAST-MODIFIED:20231117T171245Z
UID:12020-1718892000-1718902800@silke-seif.de
SUMMARY:Familien-\, Kinder- und Jugendausschuss
DESCRIPTION:AP6\, Sitzungssaal 2.04\, 2. Obergeschoss\, Adolphsplatz 6\, 20457 Hamburg
URL:https://silke-seif.de/termine/familien-kinder-und-jugendausschuss-13/
LOCATION:Rathaus
END:VEVENT
END:VCALENDAR