BEGIN:VCALENDAR
VERSION:2.0
PRODID:-//Silke Seif MdHB - ECPv6.15.20//NONSGML v1.0//EN
CALSCALE:GREGORIAN
METHOD:PUBLISH
X-WR-CALNAME:Silke Seif MdHB
X-ORIGINAL-URL:https://silke-seif.de
X-WR-CALDESC:Veranstaltungen für Silke Seif MdHB
REFRESH-INTERVAL;VALUE=DURATION:PT1H
X-Robots-Tag:noindex
X-PUBLISHED-TTL:PT1H
BEGIN:VTIMEZONE
TZID:Europe/Berlin
BEGIN:DAYLIGHT
TZOFFSETFROM:+0100
TZOFFSETTO:+0200
TZNAME:CEST
DTSTART:20220327T010000
END:DAYLIGHT
BEGIN:STANDARD
TZOFFSETFROM:+0200
TZOFFSETTO:+0100
TZNAME:CET
DTSTART:20221030T010000
END:STANDARD
BEGIN:DAYLIGHT
TZOFFSETFROM:+0100
TZOFFSETTO:+0200
TZNAME:CEST
DTSTART:20230326T010000
END:DAYLIGHT
BEGIN:STANDARD
TZOFFSETFROM:+0200
TZOFFSETTO:+0100
TZNAME:CET
DTSTART:20231029T010000
END:STANDARD
BEGIN:DAYLIGHT
TZOFFSETFROM:+0100
TZOFFSETTO:+0200
TZNAME:CEST
DTSTART:20240331T010000
END:DAYLIGHT
BEGIN:STANDARD
TZOFFSETFROM:+0200
TZOFFSETTO:+0100
TZNAME:CET
DTSTART:20241027T010000
END:STANDARD
END:VTIMEZONE
BEGIN:VEVENT
DTSTART;TZID=Europe/Berlin:20231004T170000
DTEND;TZID=Europe/Berlin:20231004T190000
DTSTAMP:20260424T124102
CREATED:20220927T141627Z
LAST-MODIFIED:20220927T141627Z
UID:10839-1696438800-1696446000@silke-seif.de
SUMMARY:Fraktionsvorstand CDU-Bürgerschaftsfraktion
DESCRIPTION:
URL:https://silke-seif.de/termine/fraktionsvorstand-cdu-buergerschaftsfraktion-26/
LOCATION:Hamburger Rathaus\, Rathausmarkt 1\, Hamburg\, 20095
ATTACH;FMTTYPE=image/jpeg:https://silke-seif.de/wp-content/uploads/2020/11/Rathaus3-2048x1536-1.jpg
ORGANIZER;CN="CDU-B%C3%BCrgerschaftsfraktion":MAILTO:rathaus@cdu-hamburg.de
END:VEVENT
BEGIN:VEVENT
DTSTART;TZID=Europe/Berlin:20231006T110000
DTEND;TZID=Europe/Berlin:20231006T120000
DTSTAMP:20260424T124102
CREATED:20230915T082638Z
LAST-MODIFIED:20230915T082638Z
UID:11805-1696590000-1696593600@silke-seif.de
SUMMARY:Bürgersprechstunde mit Silke Seif MdHB und Andreas Stonus MdBV Eimsbüttel
DESCRIPTION:11-12 Uhr\, Café Liness im Bornkasthof\, Frohmestraße 11\, Hamburg-Schnelsen. Anmeldung unter: info@silke-seif.de oder Tel. 040 / 41 92 16 98
URL:https://silke-seif.de/termine/buergersprechstunde-mit-silke-seif-mdhb-und-andreas-stonus-mdbv-eimsbuettel/
LOCATION:Café Liness im Bornkasthof\, Frohmestraße 11
END:VEVENT
BEGIN:VEVENT
DTSTART;TZID=Europe/Berlin:20231009T170000
DTEND;TZID=Europe/Berlin:20231009T190000
DTSTAMP:20260424T124102
CREATED:20220927T152341Z
LAST-MODIFIED:20220927T152341Z
UID:10879-1696870800-1696878000@silke-seif.de
SUMMARY:Fraktionssitzung
DESCRIPTION:
URL:https://silke-seif.de/termine/fraktionssitzung-29/
ATTACH;FMTTYPE=image/jpeg:https://silke-seif.de/wp-content/uploads/2020/12/Fraktionssitzung_2.jpg
ORGANIZER;CN="CDU-B%C3%BCrgerschaftsfraktion":MAILTO:rathaus@cdu-hamburg.de
END:VEVENT
BEGIN:VEVENT
DTSTART;TZID=Europe/Berlin:20231011T113000
DTEND;TZID=Europe/Berlin:20231011T160000
DTSTAMP:20260424T124102
CREATED:20230915T082735Z
LAST-MODIFIED:20230915T082735Z
UID:11807-1697023800-1697040000@silke-seif.de
SUMMARY:Rathausführung inklusive Besuch einer Bürgerschaftssitzung
DESCRIPTION:11.30-16.30 Uhr\, Rathausmarkt 1\, 20095 Hamburg. Anmeldung wird gebeten unter: info@silke-seif.de oder Tel. 040 / 41 92 16 98
URL:https://silke-seif.de/termine/rathausfuehrung-inklusive-besuch-einer-buergerschaftssitzung-2/
LOCATION:Hamburger Rathaus\, Rathausmarkt 1\, Hamburg\, 20095
END:VEVENT
BEGIN:VEVENT
DTSTART;TZID=Europe/Berlin:20231011T133000
DTEND;TZID=Europe/Berlin:20231011T210000
DTSTAMP:20260424T124102
CREATED:20220927T154403Z
LAST-MODIFIED:20220927T154403Z
UID:10919-1697031000-1697058000@silke-seif.de
SUMMARY:Bürgerschaftssitzung
DESCRIPTION:Sie können die Sitzung auch im Live-Stream auf der Website der Hamburgischen Bürgerschaft verfolgen: https://www.hamburgische-buergerschaft.de/buergerschaft-live/
URL:https://silke-seif.de/termine/buergerschaftssitzung-64/
LOCATION:Hamburger Rathaus\, Rathausmarkt 1\, Hamburg\, 20095
ATTACH;FMTTYPE=image/jpeg:https://silke-seif.de/wp-content/uploads/2020/12/Buergerschaftssitzung-Silke-Seif.jpg
END:VEVENT
BEGIN:VEVENT
DTSTART;TZID=Europe/Berlin:20231012T140000
DTEND;TZID=Europe/Berlin:20231012T160000
DTSTAMP:20260424T124102
CREATED:20221119T092331Z
LAST-MODIFIED:20221119T092353Z
UID:11095-1697119200-1697126400@silke-seif.de
SUMMARY:Ausschuss für Gleichstellung und Antidiskriminierung
DESCRIPTION:
URL:https://silke-seif.de/termine/ausschuss-fuer-gleichstellung-und-antidiskriminierung-10/
LOCATION:Hamburger Rathaus\, Rathausmarkt 1\, Hamburg\, 20095
ATTACH;FMTTYPE=image/jpeg:https://silke-seif.de/wp-content/uploads/2020/05/200417_Silke_Seif_MdHB_Max_Arens_044.jpg
END:VEVENT
BEGIN:VEVENT
DTSTART;TZID=Europe/Berlin:20231012T170000
DTEND;TZID=Europe/Berlin:20231012T190000
DTSTAMP:20260424T124102
CREATED:20221120T183647Z
LAST-MODIFIED:20221120T183703Z
UID:11113-1697130000-1697137200@silke-seif.de
SUMMARY:Sozialausschuss
DESCRIPTION:
URL:https://silke-seif.de/termine/sozialausschuss-24/
LOCATION:Hamburger Rathaus\, Rathausmarkt 1\, Hamburg\, 20095
ATTACH;FMTTYPE=image/jpeg:https://silke-seif.de/wp-content/uploads/2020/07/Senioren-Arbeit.jpg
END:VEVENT
BEGIN:VEVENT
DTSTART;TZID=Europe/Berlin:20231014T100000
DTEND;TZID=Europe/Berlin:20231014T120000
DTSTAMP:20260424T124102
CREATED:20230915T082847Z
LAST-MODIFIED:20230915T082847Z
UID:11809-1697277600-1697284800@silke-seif.de
SUMMARY:CDU-Infostand Schnelsen
DESCRIPTION:10-12 Uhr\, Frohmestraße 14/Ecke Glißmannweg
URL:https://silke-seif.de/termine/cdu-infostand-schnelsen-10/
LOCATION:Frohmestraße 14 / Ecke Glißmannweg
END:VEVENT
END:VCALENDAR