BEGIN:VCALENDAR
VERSION:2.0
PRODID:-//Silke Seif MdHB - ECPv6.15.20//NONSGML v1.0//EN
CALSCALE:GREGORIAN
METHOD:PUBLISH
X-WR-CALNAME:Silke Seif MdHB
X-ORIGINAL-URL:https://silke-seif.de
X-WR-CALDESC:Veranstaltungen für Silke Seif MdHB
REFRESH-INTERVAL;VALUE=DURATION:PT1H
X-Robots-Tag:noindex
X-PUBLISHED-TTL:PT1H
BEGIN:VTIMEZONE
TZID:Europe/Berlin
BEGIN:DAYLIGHT
TZOFFSETFROM:+0100
TZOFFSETTO:+0200
TZNAME:CEST
DTSTART:20220327T010000
END:DAYLIGHT
BEGIN:STANDARD
TZOFFSETFROM:+0200
TZOFFSETTO:+0100
TZNAME:CET
DTSTART:20221030T010000
END:STANDARD
BEGIN:DAYLIGHT
TZOFFSETFROM:+0100
TZOFFSETTO:+0200
TZNAME:CEST
DTSTART:20230326T010000
END:DAYLIGHT
BEGIN:STANDARD
TZOFFSETFROM:+0200
TZOFFSETTO:+0100
TZNAME:CET
DTSTART:20231029T010000
END:STANDARD
BEGIN:DAYLIGHT
TZOFFSETFROM:+0100
TZOFFSETTO:+0200
TZNAME:CEST
DTSTART:20240331T010000
END:DAYLIGHT
BEGIN:STANDARD
TZOFFSETFROM:+0200
TZOFFSETTO:+0100
TZNAME:CET
DTSTART:20241027T010000
END:STANDARD
END:VTIMEZONE
BEGIN:VEVENT
DTSTART;TZID=Europe/Berlin:20230906T170000
DTEND;TZID=Europe/Berlin:20230906T190000
DTSTAMP:20260424T140606
CREATED:20220927T141540Z
LAST-MODIFIED:20220927T141540Z
UID:10835-1694019600-1694026800@silke-seif.de
SUMMARY:Fraktionsvorstand CDU-Bürgerschaftsfraktion
DESCRIPTION:
URL:https://silke-seif.de/termine/fraktionsvorstand-cdu-buergerschaftsfraktion-24/
LOCATION:Hamburger Rathaus\, Rathausmarkt 1\, Hamburg\, 20095
ATTACH;FMTTYPE=image/jpeg:https://silke-seif.de/wp-content/uploads/2020/11/Rathaus3-2048x1536-1.jpg
ORGANIZER;CN="CDU-B%C3%BCrgerschaftsfraktion":MAILTO:rathaus@cdu-hamburg.de
END:VEVENT
BEGIN:VEVENT
DTSTART;TZID=Europe/Berlin:20230907T170000
DTEND;TZID=Europe/Berlin:20230907T180000
DTSTAMP:20260424T140606
CREATED:20230915T081801Z
LAST-MODIFIED:20230915T081801Z
UID:11792-1694106000-1694109600@silke-seif.de
SUMMARY:Bürgersprechstunde mit Silke Seif MdHB und Rüdiger Kuhn MdBV Eimsbüttel
DESCRIPTION:Bürgersprechstunde mit Silke Seif MdHB und Rüdiger Kuhn MdBV Eimsbüttel\, 17-18 Uhr\, Abgeordnetenbüro Silke Seif\, Jägerlauf 41-45\, 22529 Hamburg. Anmeldung unter: info@silke-seif.de oder Tel. 040 / 41 92 16 98
URL:https://silke-seif.de/termine/buergersprechstunde-mit-silke-seif-mdhb-und-ruediger-kuhn-mdbv-eimsbuettel-3/
LOCATION:Abgeordnetenbüro Silke Seif\, Jägerlauf 41-45\, Hamburg\, 22529
END:VEVENT
BEGIN:VEVENT
DTSTART;TZID=Europe/Berlin:20230907T170000
DTEND;TZID=Europe/Berlin:20230907T190000
DTSTAMP:20260424T140606
CREATED:20221120T184919Z
LAST-MODIFIED:20221120T184933Z
UID:11143-1694106000-1694113200@silke-seif.de
SUMMARY:Schulausschuss
DESCRIPTION:
URL:https://silke-seif.de/termine/schulausschuss-26/
LOCATION:Hamburger Rathaus\, Rathausmarkt 1\, Hamburg\, 20095
ATTACH;FMTTYPE=image/jpeg:https://silke-seif.de/wp-content/uploads/2020/06/Schulausschuss.jpg
END:VEVENT
BEGIN:VEVENT
DTSTART;TZID=Europe/Berlin:20230909T100000
DTEND;TZID=Europe/Berlin:20230909T120000
DTSTAMP:20260424T140606
CREATED:20230915T081919Z
LAST-MODIFIED:20230915T081919Z
UID:11794-1694253600-1694260800@silke-seif.de
SUMMARY:CDU-Infostand Schnelsen
DESCRIPTION:10-12 Uhr\, Frohmestraße 14/Ecke Glißmannweg
URL:https://silke-seif.de/termine/cdu-infostand-schnelsen-9/
LOCATION:Frohmestraße 14 / Ecke Glißmannweg
END:VEVENT
BEGIN:VEVENT
DTSTART;TZID=Europe/Berlin:20230911T170000
DTEND;TZID=Europe/Berlin:20230911T190000
DTSTAMP:20260424T140606
CREATED:20220927T151940Z
LAST-MODIFIED:20220927T151940Z
UID:10875-1694451600-1694458800@silke-seif.de
SUMMARY:Fraktionssitzung
DESCRIPTION:
URL:https://silke-seif.de/termine/fraktionssitzung-27/
ATTACH;FMTTYPE=image/jpeg:https://silke-seif.de/wp-content/uploads/2020/12/Fraktionssitzung_2.jpg
ORGANIZER;CN="CDU-B%C3%BCrgerschaftsfraktion":MAILTO:rathaus@cdu-hamburg.de
END:VEVENT
BEGIN:VEVENT
DTSTART;TZID=Europe/Berlin:20230913T133000
DTEND;TZID=Europe/Berlin:20230913T210000
DTSTAMP:20260424T140606
CREATED:20220927T154148Z
LAST-MODIFIED:20220927T154148Z
UID:10915-1694611800-1694638800@silke-seif.de
SUMMARY:Bürgerschaftssitzung
DESCRIPTION:Sie können die Sitzung auch im Live-Stream auf der Website der Hamburgischen Bürgerschaft verfolgen: https://www.hamburgische-buergerschaft.de/buergerschaft-live/
URL:https://silke-seif.de/termine/buergerschaftssitzung-62/
LOCATION:Hamburger Rathaus\, Rathausmarkt 1\, Hamburg\, 20095
ATTACH;FMTTYPE=image/jpeg:https://silke-seif.de/wp-content/uploads/2020/12/Buergerschaftssitzung-Silke-Seif.jpg
END:VEVENT
BEGIN:VEVENT
DTSTART;TZID=Europe/Berlin:20230914T140000
DTEND;TZID=Europe/Berlin:20230914T160000
DTSTAMP:20260424T140606
CREATED:20221119T092242Z
LAST-MODIFIED:20221119T092311Z
UID:11093-1694700000-1694707200@silke-seif.de
SUMMARY:Ausschuss für Gleichstellung und Antidiskriminierung
DESCRIPTION:
URL:https://silke-seif.de/termine/ausschuss-fuer-gleichstellung-und-antidiskriminierung-9/
LOCATION:Hamburger Rathaus\, Rathausmarkt 1\, Hamburg\, 20095
ATTACH;FMTTYPE=image/jpeg:https://silke-seif.de/wp-content/uploads/2020/05/200417_Silke_Seif_MdHB_Max_Arens_044.jpg
END:VEVENT
BEGIN:VEVENT
DTSTART;TZID=Europe/Berlin:20230914T170000
DTEND;TZID=Europe/Berlin:20230914T190000
DTSTAMP:20260424T140606
CREATED:20221120T183502Z
LAST-MODIFIED:20221120T183547Z
UID:11111-1694710800-1694718000@silke-seif.de
SUMMARY:Sozialausschuss
DESCRIPTION:
URL:https://silke-seif.de/termine/sozialausschuss-23/
LOCATION:Hamburger Rathaus\, Rathausmarkt 1\, Hamburg\, 20095
ATTACH;FMTTYPE=image/jpeg:https://silke-seif.de/wp-content/uploads/2020/07/Senioren-Arbeit.jpg
END:VEVENT
BEGIN:VEVENT
DTSTART;TZID=Europe/Berlin:20230916T100000
DTEND;TZID=Europe/Berlin:20230916T120000
DTSTAMP:20260424T140606
CREATED:20230915T082152Z
LAST-MODIFIED:20230915T082152Z
UID:11798-1694858400-1694865600@silke-seif.de
SUMMARY:CDU-Infostand Niendorf
DESCRIPTION:10-12 Uhr\, Tibarg 21
URL:https://silke-seif.de/termine/cdu-infostand-niendorf-2/
LOCATION:Tibarg 21
END:VEVENT
BEGIN:VEVENT
DTSTART;TZID=Europe/Berlin:20230920T170000
DTEND;TZID=Europe/Berlin:20230920T190000
DTSTAMP:20260424T140606
CREATED:20220927T141603Z
LAST-MODIFIED:20220927T141603Z
UID:10837-1695229200-1695236400@silke-seif.de
SUMMARY:Fraktionsvorstand CDU-Bürgerschaftsfraktion
DESCRIPTION:
URL:https://silke-seif.de/termine/fraktionsvorstand-cdu-buergerschaftsfraktion-25/
LOCATION:Hamburger Rathaus\, Rathausmarkt 1\, Hamburg\, 20095
ATTACH;FMTTYPE=image/jpeg:https://silke-seif.de/wp-content/uploads/2020/11/Rathaus3-2048x1536-1.jpg
ORGANIZER;CN="CDU-B%C3%BCrgerschaftsfraktion":MAILTO:rathaus@cdu-hamburg.de
END:VEVENT
BEGIN:VEVENT
DTSTART;TZID=Europe/Berlin:20230921T083000
DTEND;TZID=Europe/Berlin:20230921T100000
DTSTAMP:20260424T140606
CREATED:20230915T082303Z
LAST-MODIFIED:20230915T082303Z
UID:11800-1695285000-1695290400@silke-seif.de
SUMMARY:CDU-Infostand Niendorf mit Dennis Thering\, CDU-Fraktions- und Landesvorsitzender
DESCRIPTION:8.30-10 Uhr\, Tibarg 21
URL:https://silke-seif.de/termine/cdu-infostand-niendorf-mit-dennis-thering-cdu-fraktions-und-landesvorsitzender/
LOCATION:Tibarg 21
END:VEVENT
BEGIN:VEVENT
DTSTART;TZID=Europe/Berlin:20230923T123000
DTEND;TZID=Europe/Berlin:20230923T160000
DTSTAMP:20260424T140606
CREATED:20230915T082428Z
LAST-MODIFIED:20230915T082428Z
UID:11802-1695472200-1695484800@silke-seif.de
SUMMARY:CDU-Infostand Lokstedt bei der Lokstedt-Rallye
DESCRIPTION:12.30-16 Uhr\, mit Dennis Thering\, CDU-Fraktions- und Landesvorsitzender\, und Silke Seif MdHB\, Grelckstraße 2/Höhe-Aldi-Filiale
URL:https://silke-seif.de/termine/cdu-infostand-lokstedt-bei-der-lokstedt-rallye/
LOCATION:Grelckstraße 2 / Höhe Aldi-Filiale\, Grelckstraße 2 / Höhe Aldi-Filiale\, Hamburg
END:VEVENT
BEGIN:VEVENT
DTSTART;TZID=Europe/Berlin:20230925T170000
DTEND;TZID=Europe/Berlin:20230925T190000
DTSTAMP:20260424T140606
CREATED:20220927T152122Z
LAST-MODIFIED:20220927T152122Z
UID:10877-1695661200-1695668400@silke-seif.de
SUMMARY:Fraktionssitzung
DESCRIPTION:
URL:https://silke-seif.de/termine/fraktionssitzung-28/
ATTACH;FMTTYPE=image/jpeg:https://silke-seif.de/wp-content/uploads/2020/12/Fraktionssitzung_2.jpg
ORGANIZER;CN="CDU-B%C3%BCrgerschaftsfraktion":MAILTO:rathaus@cdu-hamburg.de
END:VEVENT
BEGIN:VEVENT
DTSTART;TZID=Europe/Berlin:20230926T140000
DTEND;TZID=Europe/Berlin:20230926T170000
DTSTAMP:20260424T140606
CREATED:20221120T184326Z
LAST-MODIFIED:20221120T184345Z
UID:11129-1695736800-1695747600@silke-seif.de
SUMMARY:Familien-\, Kinder- und Jugendausschuss
DESCRIPTION:
URL:https://silke-seif.de/termine/familien-kinder-und-jugendausschuss-7/
LOCATION:Hamburger Rathaus\, Rathausmarkt 1\, Hamburg\, 20095
ATTACH;FMTTYPE=image/jpeg:https://silke-seif.de/wp-content/uploads/2020/07/Familienausschuss.jpg
END:VEVENT
BEGIN:VEVENT
DTSTART;TZID=Europe/Berlin:20230927T133000
DTEND;TZID=Europe/Berlin:20230927T210000
DTSTAMP:20260424T140606
CREATED:20220927T154250Z
LAST-MODIFIED:20220927T154250Z
UID:10917-1695821400-1695848400@silke-seif.de
SUMMARY:Bürgerschaftssitzung
DESCRIPTION:Sie können die Sitzung auch im Live-Stream auf der Website der Hamburgischen Bürgerschaft verfolgen: https://www.hamburgische-buergerschaft.de/buergerschaft-live/
URL:https://silke-seif.de/termine/buergerschaftssitzung-63/
LOCATION:Hamburger Rathaus\, Rathausmarkt 1\, Hamburg\, 20095
ATTACH;FMTTYPE=image/jpeg:https://silke-seif.de/wp-content/uploads/2020/12/Buergerschaftssitzung-Silke-Seif.jpg
END:VEVENT
BEGIN:VEVENT
DTSTART;TZID=Europe/Berlin:20230928T140000
DTEND;TZID=Europe/Berlin:20230928T160000
DTSTAMP:20260424T140606
CREATED:20221120T185607Z
LAST-MODIFIED:20221120T185625Z
UID:11159-1695909600-1695916800@silke-seif.de
SUMMARY:Sportausschuss
DESCRIPTION:
URL:https://silke-seif.de/termine/sportausschuss-22/
LOCATION:Hamburger Rathaus\, Rathausmarkt 1\, Hamburg\, 20095
ATTACH;FMTTYPE=image/jpeg:https://silke-seif.de/wp-content/uploads/2020/07/Sportausschuss.jpg
END:VEVENT
END:VCALENDAR