BEGIN:VCALENDAR
VERSION:2.0
PRODID:-//Silke Seif MdHB - ECPv6.15.20//NONSGML v1.0//EN
CALSCALE:GREGORIAN
METHOD:PUBLISH
X-WR-CALNAME:Silke Seif MdHB
X-ORIGINAL-URL:https://silke-seif.de
X-WR-CALDESC:Veranstaltungen für Silke Seif MdHB
REFRESH-INTERVAL;VALUE=DURATION:PT1H
X-Robots-Tag:noindex
X-PUBLISHED-TTL:PT1H
BEGIN:VTIMEZONE
TZID:Europe/Berlin
BEGIN:DAYLIGHT
TZOFFSETFROM:+0100
TZOFFSETTO:+0200
TZNAME:CEST
DTSTART:20220327T010000
END:DAYLIGHT
BEGIN:STANDARD
TZOFFSETFROM:+0200
TZOFFSETTO:+0100
TZNAME:CET
DTSTART:20221030T010000
END:STANDARD
BEGIN:DAYLIGHT
TZOFFSETFROM:+0100
TZOFFSETTO:+0200
TZNAME:CEST
DTSTART:20230326T010000
END:DAYLIGHT
BEGIN:STANDARD
TZOFFSETFROM:+0200
TZOFFSETTO:+0100
TZNAME:CET
DTSTART:20231029T010000
END:STANDARD
BEGIN:DAYLIGHT
TZOFFSETFROM:+0100
TZOFFSETTO:+0200
TZNAME:CEST
DTSTART:20240331T010000
END:DAYLIGHT
BEGIN:STANDARD
TZOFFSETFROM:+0200
TZOFFSETTO:+0100
TZNAME:CET
DTSTART:20241027T010000
END:STANDARD
END:VTIMEZONE
BEGIN:VEVENT
DTSTART;TZID=Europe/Berlin:20230823T170000
DTEND;TZID=Europe/Berlin:20230823T190000
DTSTAMP:20260424T154019
CREATED:20220927T141516Z
LAST-MODIFIED:20220927T141516Z
UID:10833-1692810000-1692817200@silke-seif.de
SUMMARY:Fraktionsvorstand CDU-Bürgerschaftsfraktion
DESCRIPTION:
URL:https://silke-seif.de/termine/fraktionsvorstand-cdu-buergerschaftsfraktion-23/
LOCATION:Hamburger Rathaus\, Rathausmarkt 1\, Hamburg\, 20095
ATTACH;FMTTYPE=image/jpeg:https://silke-seif.de/wp-content/uploads/2020/11/Rathaus3-2048x1536-1.jpg
ORGANIZER;CN="CDU-B%C3%BCrgerschaftsfraktion":MAILTO:rathaus@cdu-hamburg.de
END:VEVENT
BEGIN:VEVENT
DTSTART;TZID=Europe/Berlin:20230828T170000
DTEND;TZID=Europe/Berlin:20230828T190000
DTSTAMP:20260424T154019
CREATED:20220927T151727Z
LAST-MODIFIED:20220927T151727Z
UID:10873-1693242000-1693249200@silke-seif.de
SUMMARY:Fraktionssitzung
DESCRIPTION:
URL:https://silke-seif.de/termine/fraktionssitzung-26/
ATTACH;FMTTYPE=image/jpeg:https://silke-seif.de/wp-content/uploads/2020/12/Fraktionssitzung_2.jpg
ORGANIZER;CN="CDU-B%C3%BCrgerschaftsfraktion":MAILTO:rathaus@cdu-hamburg.de
END:VEVENT
BEGIN:VEVENT
DTSTART;TZID=Europe/Berlin:20230829T140000
DTEND;TZID=Europe/Berlin:20230829T170000
DTSTAMP:20260424T154019
CREATED:20221120T184251Z
LAST-MODIFIED:20221120T184308Z
UID:11127-1693317600-1693328400@silke-seif.de
SUMMARY:Familien-\, Kinder- und Jugendausschuss
DESCRIPTION:
URL:https://silke-seif.de/termine/familien-kinder-und-jugendausschuss-6/
LOCATION:Hamburger Rathaus\, Rathausmarkt 1\, Hamburg\, 20095
ATTACH;FMTTYPE=image/jpeg:https://silke-seif.de/wp-content/uploads/2020/07/Familienausschuss.jpg
END:VEVENT
BEGIN:VEVENT
DTSTART;TZID=Europe/Berlin:20230830T133000
DTEND;TZID=Europe/Berlin:20230830T210000
DTSTAMP:20260424T154019
CREATED:20220927T154111Z
LAST-MODIFIED:20220927T154111Z
UID:10913-1693402200-1693429200@silke-seif.de
SUMMARY:Bürgerschaftssitzung
DESCRIPTION:Sie können die Sitzung auch im Live-Stream auf der Website der Hamburgischen Bürgerschaft verfolgen: https://www.hamburgische-buergerschaft.de/buergerschaft-live/
URL:https://silke-seif.de/termine/buergerschaftssitzung-61/
LOCATION:Hamburger Rathaus\, Rathausmarkt 1\, Hamburg\, 20095
ATTACH;FMTTYPE=image/jpeg:https://silke-seif.de/wp-content/uploads/2020/12/Buergerschaftssitzung-Silke-Seif.jpg
END:VEVENT
BEGIN:VEVENT
DTSTART;TZID=Europe/Berlin:20230831T140000
DTEND;TZID=Europe/Berlin:20230831T160000
DTSTAMP:20260424T154019
CREATED:20221120T185517Z
LAST-MODIFIED:20221120T185535Z
UID:11157-1693490400-1693497600@silke-seif.de
SUMMARY:Sportausschuss
DESCRIPTION:
URL:https://silke-seif.de/termine/sportausschuss-21/
LOCATION:Hamburger Rathaus\, Rathausmarkt 1\, Hamburg\, 20095
ATTACH;FMTTYPE=image/jpeg:https://silke-seif.de/wp-content/uploads/2020/07/Sportausschuss.jpg
END:VEVENT
END:VCALENDAR