BEGIN:VCALENDAR
VERSION:2.0
PRODID:-//Silke Seif MdHB - ECPv6.15.20//NONSGML v1.0//EN
CALSCALE:GREGORIAN
METHOD:PUBLISH
X-ORIGINAL-URL:https://silke-seif.de
X-WR-CALDESC:Veranstaltungen für Silke Seif MdHB
REFRESH-INTERVAL;VALUE=DURATION:PT1H
X-Robots-Tag:noindex
X-PUBLISHED-TTL:PT1H
BEGIN:VTIMEZONE
TZID:Europe/Berlin
BEGIN:DAYLIGHT
TZOFFSETFROM:+0100
TZOFFSETTO:+0200
TZNAME:CEST
DTSTART:20220327T010000
END:DAYLIGHT
BEGIN:STANDARD
TZOFFSETFROM:+0200
TZOFFSETTO:+0100
TZNAME:CET
DTSTART:20221030T010000
END:STANDARD
BEGIN:DAYLIGHT
TZOFFSETFROM:+0100
TZOFFSETTO:+0200
TZNAME:CEST
DTSTART:20230326T010000
END:DAYLIGHT
BEGIN:STANDARD
TZOFFSETFROM:+0200
TZOFFSETTO:+0100
TZNAME:CET
DTSTART:20231029T010000
END:STANDARD
BEGIN:DAYLIGHT
TZOFFSETFROM:+0100
TZOFFSETTO:+0200
TZNAME:CEST
DTSTART:20240331T010000
END:DAYLIGHT
BEGIN:STANDARD
TZOFFSETFROM:+0200
TZOFFSETTO:+0100
TZNAME:CET
DTSTART:20241027T010000
END:STANDARD
END:VTIMEZONE
BEGIN:VEVENT
DTSTART;TZID=Europe/Berlin:20230701T100000
DTEND;TZID=Europe/Berlin:20230701T120000
DTSTAMP:20260424T172558
CREATED:20230329T085805Z
LAST-MODIFIED:20230329T090039Z
UID:11308-1688205600-1688212800@silke-seif.de
SUMMARY:CDU-Infostand Niendorf mit Dennis Thering
DESCRIPTION:CDU-Infostand Niendorf mit Dennis Thering\, Fraktionsvorsitzender der CDU-Bürgerschaftsfraktion\, auf dem Tibarg-Fest: 10-12 Uhr\, Tibarg 21
URL:https://silke-seif.de/termine/cdu-infostand-niendorf-mit-dennis-thering/
LOCATION:Tibarg 21
ATTACH;FMTTYPE=image/jpeg:https://silke-seif.de/wp-content/uploads/2022/06/IMG_8641.jpeg
END:VEVENT
BEGIN:VEVENT
DTSTART;TZID=Europe/Berlin:20230701T100000
DTEND;TZID=Europe/Berlin:20230701T120000
DTSTAMP:20260424T172558
CREATED:20230421T083247Z
LAST-MODIFIED:20230421T083247Z
UID:11449-1688205600-1688212800@silke-seif.de
SUMMARY:Infostand Niendorf (Tibarg-Fest)
DESCRIPTION:10-12 Uhr\, mit Dennis Thering\, CDU-Fraktions- und Landesvorsitzender\, und Silke Seif MdH\, Tibarg 38
URL:https://silke-seif.de/termine/infostand-niendorf-tibarg-fest/
LOCATION:Tibarg 38\, Tibarg 38\, Hamburg\, 22459
END:VEVENT
BEGIN:VEVENT
DTSTART;TZID=Europe/Berlin:20230703T170000
DTEND;TZID=Europe/Berlin:20230703T190000
DTSTAMP:20260424T172558
CREATED:20220927T151410Z
LAST-MODIFIED:20220927T151410Z
UID:10871-1688403600-1688410800@silke-seif.de
SUMMARY:Fraktionssitzung
DESCRIPTION:
URL:https://silke-seif.de/termine/fraktionssitzung-25/
ATTACH;FMTTYPE=image/jpeg:https://silke-seif.de/wp-content/uploads/2020/12/Fraktionssitzung_2.jpg
ORGANIZER;CN="CDU-B%C3%BCrgerschaftsfraktion":MAILTO:rathaus@cdu-hamburg.de
END:VEVENT
BEGIN:VEVENT
DTSTART;TZID=Europe/Berlin:20230705T133000
DTEND;TZID=Europe/Berlin:20230705T210000
DTSTAMP:20260424T172558
CREATED:20220927T154032Z
LAST-MODIFIED:20220927T154032Z
UID:10911-1688563800-1688590800@silke-seif.de
SUMMARY:Bürgerschaftssitzung
DESCRIPTION:Sie können die Sitzung auch im Live-Stream auf der Website der Hamburgischen Bürgerschaft verfolgen: https://www.hamburgische-buergerschaft.de/buergerschaft-live/
URL:https://silke-seif.de/termine/buergerschaftssitzung-60/
LOCATION:Hamburger Rathaus\, Rathausmarkt 1\, Hamburg\, 20095
ATTACH;FMTTYPE=image/jpeg:https://silke-seif.de/wp-content/uploads/2020/12/Buergerschaftssitzung-Silke-Seif.jpg
END:VEVENT
BEGIN:VEVENT
DTSTART;TZID=Europe/Berlin:20230706T170000
DTEND;TZID=Europe/Berlin:20230706T190000
DTSTAMP:20260424T172558
CREATED:20221120T184845Z
LAST-MODIFIED:20221120T184904Z
UID:11141-1688662800-1688670000@silke-seif.de
SUMMARY:Schulausschuss
DESCRIPTION:
URL:https://silke-seif.de/termine/schulausschuss-25/
LOCATION:Hamburger Rathaus\, Rathausmarkt 1\, Hamburg\, 20095
ATTACH;FMTTYPE=image/jpeg:https://silke-seif.de/wp-content/uploads/2020/06/Schulausschuss.jpg
END:VEVENT
END:VCALENDAR