BEGIN:VCALENDAR
VERSION:2.0
PRODID:-//Silke Seif MdHB - ECPv6.15.20//NONSGML v1.0//EN
CALSCALE:GREGORIAN
METHOD:PUBLISH
X-WR-CALNAME:Silke Seif MdHB
X-ORIGINAL-URL:https://silke-seif.de
X-WR-CALDESC:Veranstaltungen für Silke Seif MdHB
REFRESH-INTERVAL;VALUE=DURATION:PT1H
X-Robots-Tag:noindex
X-PUBLISHED-TTL:PT1H
BEGIN:VTIMEZONE
TZID:Europe/Berlin
BEGIN:DAYLIGHT
TZOFFSETFROM:+0100
TZOFFSETTO:+0200
TZNAME:CEST
DTSTART:20240331T010000
END:DAYLIGHT
BEGIN:STANDARD
TZOFFSETFROM:+0200
TZOFFSETTO:+0100
TZNAME:CET
DTSTART:20241027T010000
END:STANDARD
BEGIN:DAYLIGHT
TZOFFSETFROM:+0100
TZOFFSETTO:+0200
TZNAME:CEST
DTSTART:20250330T010000
END:DAYLIGHT
BEGIN:STANDARD
TZOFFSETFROM:+0200
TZOFFSETTO:+0100
TZNAME:CET
DTSTART:20251026T010000
END:STANDARD
BEGIN:DAYLIGHT
TZOFFSETFROM:+0100
TZOFFSETTO:+0200
TZNAME:CEST
DTSTART:20260329T010000
END:DAYLIGHT
BEGIN:STANDARD
TZOFFSETFROM:+0200
TZOFFSETTO:+0100
TZNAME:CET
DTSTART:20261025T010000
END:STANDARD
END:VTIMEZONE
BEGIN:VEVENT
DTSTART;TZID=Europe/Berlin:20250402T170000
DTEND;TZID=Europe/Berlin:20250402T190000
DTSTAMP:20260423T140829
CREATED:20250429T115603Z
LAST-MODIFIED:20250429T115603Z
UID:13107-1743613200-1743620400@silke-seif.de
SUMMARY:Fraktionssitzung
DESCRIPTION:
URL:https://silke-seif.de/termine/fraktionssitzung-35/
ORGANIZER;CN="CDU-B%C3%BCrgerschaftsfraktion":MAILTO:rathaus@cdu-hamburg.de
END:VEVENT
END:VCALENDAR