BEGIN:VCALENDAR
VERSION:2.0
PRODID:-//Silke Seif MdHB - ECPv6.15.20//NONSGML v1.0//EN
CALSCALE:GREGORIAN
METHOD:PUBLISH
X-ORIGINAL-URL:https://silke-seif.de
X-WR-CALDESC:Veranstaltungen für Silke Seif MdHB
REFRESH-INTERVAL;VALUE=DURATION:PT1H
X-Robots-Tag:noindex
X-PUBLISHED-TTL:PT1H
BEGIN:VTIMEZONE
TZID:Europe/Berlin
BEGIN:DAYLIGHT
TZOFFSETFROM:+0100
TZOFFSETTO:+0200
TZNAME:CEST
DTSTART:20230326T010000
END:DAYLIGHT
BEGIN:STANDARD
TZOFFSETFROM:+0200
TZOFFSETTO:+0100
TZNAME:CET
DTSTART:20231029T010000
END:STANDARD
BEGIN:DAYLIGHT
TZOFFSETFROM:+0100
TZOFFSETTO:+0200
TZNAME:CEST
DTSTART:20240331T010000
END:DAYLIGHT
BEGIN:STANDARD
TZOFFSETFROM:+0200
TZOFFSETTO:+0100
TZNAME:CET
DTSTART:20241027T010000
END:STANDARD
BEGIN:DAYLIGHT
TZOFFSETFROM:+0100
TZOFFSETTO:+0200
TZNAME:CEST
DTSTART:20250330T010000
END:DAYLIGHT
BEGIN:STANDARD
TZOFFSETFROM:+0200
TZOFFSETTO:+0100
TZNAME:CET
DTSTART:20251026T010000
END:STANDARD
END:VTIMEZONE
BEGIN:VEVENT
DTSTART;TZID=Europe/Berlin:20240111T140000
DTEND;TZID=Europe/Berlin:20240111T170000
DTSTAMP:20260424T095432
CREATED:20231117T162616Z
LAST-MODIFIED:20231117T162616Z
UID:11961-1704981600-1704992400@silke-seif.de
SUMMARY:Ausschuss für Gleichstellung und Antidiskriminierung
DESCRIPTION:AP6\, Sitzungssaal 2.04\, 2. Obergeschoss\, Adolphsplatz 6\, 20457 Hamburg
URL:https://silke-seif.de/termine/ausschuss-fuer-gleichstellung-und-antidiskriminierung-12/
LOCATION:Hamburger Rathaus\, Rathausmarkt 1\, Hamburg\, 20095
ATTACH;FMTTYPE=image/jpeg:https://silke-seif.de/wp-content/uploads/2020/05/200417_Silke_Seif_MdHB_Max_Arens_044.jpg
END:VEVENT
BEGIN:VEVENT
DTSTART;TZID=Europe/Berlin:20240111T170000
DTEND;TZID=Europe/Berlin:20240111T190000
DTSTAMP:20260424T095432
CREATED:20231117T163543Z
LAST-MODIFIED:20231117T163638Z
UID:11978-1704992400-1704999600@silke-seif.de
SUMMARY:Ausschuss für Soziales\, Arbeit und Integration
DESCRIPTION:Rathaus\, Raum 151\, Rathausmarkt 1\, 20095 Hamburg
URL:https://silke-seif.de/termine/ausschuss-fuer-soziales-arbeit-und-integration-2/
LOCATION:Rathaus
ATTACH;FMTTYPE=image/jpeg:https://silke-seif.de/wp-content/uploads/2020/07/Senioren-Arbeit.jpg
END:VEVENT
END:VCALENDAR