BEGIN:VCALENDAR
VERSION:2.0
PRODID:-//Silke Seif MdHB - ECPv6.15.20//NONSGML v1.0//EN
CALSCALE:GREGORIAN
METHOD:PUBLISH
X-WR-CALNAME:Silke Seif MdHB
X-ORIGINAL-URL:https://silke-seif.de
X-WR-CALDESC:Veranstaltungen für Silke Seif MdHB
REFRESH-INTERVAL;VALUE=DURATION:PT1H
X-Robots-Tag:noindex
X-PUBLISHED-TTL:PT1H
BEGIN:VTIMEZONE
TZID:Europe/Berlin
BEGIN:DAYLIGHT
TZOFFSETFROM:+0100
TZOFFSETTO:+0200
TZNAME:CEST
DTSTART:20220327T010000
END:DAYLIGHT
BEGIN:STANDARD
TZOFFSETFROM:+0200
TZOFFSETTO:+0100
TZNAME:CET
DTSTART:20221030T010000
END:STANDARD
BEGIN:DAYLIGHT
TZOFFSETFROM:+0100
TZOFFSETTO:+0200
TZNAME:CEST
DTSTART:20230326T010000
END:DAYLIGHT
BEGIN:STANDARD
TZOFFSETFROM:+0200
TZOFFSETTO:+0100
TZNAME:CET
DTSTART:20231029T010000
END:STANDARD
BEGIN:DAYLIGHT
TZOFFSETFROM:+0100
TZOFFSETTO:+0200
TZNAME:CEST
DTSTART:20240331T010000
END:DAYLIGHT
BEGIN:STANDARD
TZOFFSETFROM:+0200
TZOFFSETTO:+0100
TZNAME:CET
DTSTART:20241027T010000
END:STANDARD
END:VTIMEZONE
BEGIN:VEVENT
DTSTART;TZID=Europe/Berlin:20231206T113000
DTEND;TZID=Europe/Berlin:20231206T163000
DTSTAMP:20260424T111815
CREATED:20231117T154640Z
LAST-MODIFIED:20231117T154640Z
UID:11953-1701862200-1701880200@silke-seif.de
SUMMARY:Rathausführung mit Silke Seif inklusive einer Bürgerschaftssitzung
DESCRIPTION:11.30-16.30 Uhr\, Rathausführung mit Silke Seif inklusive einer Bürgerschaftssitzung\, \nRathausmarkt 1\, 20095 Hamburg. \nAnmeldung wird gebeten unter: info@silke-seif.de oder Tel. 040 / 41 92 16 98
URL:https://silke-seif.de/termine/rathausfuehrung-mit-silke-seif-inklusive-einer-buergerschaftssitzung/
LOCATION:Hamburger Rathaus\, Rathausmarkt 1\, Hamburg\, 20095
END:VEVENT
BEGIN:VEVENT
DTSTART;TZID=Europe/Berlin:20231206T133000
DTEND;TZID=Europe/Berlin:20231206T210000
DTSTAMP:20260424T111815
CREATED:20220927T154617Z
LAST-MODIFIED:20220927T154617Z
UID:10925-1701869400-1701896400@silke-seif.de
SUMMARY:Bürgerschaftssitzung
DESCRIPTION:Sie können die Sitzung auch im Live-Stream auf der Website der Hamburgischen Bürgerschaft verfolgen: https://www.hamburgische-buergerschaft.de/buergerschaft-live/
URL:https://silke-seif.de/termine/buergerschaftssitzung-67/
LOCATION:Hamburger Rathaus\, Rathausmarkt 1\, Hamburg\, 20095
ATTACH;FMTTYPE=image/jpeg:https://silke-seif.de/wp-content/uploads/2020/12/Buergerschaftssitzung-Silke-Seif.jpg
END:VEVENT
END:VCALENDAR